BEGIN:VCALENDAR
VERSION:2.0
PRODID:-//lifelinemo.org//NONSGML kigkonsult.se iCalcreator 2.30.10//
CALSCALE:GREGORIAN
METHOD:PUBLISH
UID:f13e95b0-691d-41a3-92fc-0745b02a3527
X-WR-CALDESC:
X-WR-RELCALID:5a533763a7ce02739a2b9db2d81e350d
X-WR-TIMEZONE:America/Chicago
BEGIN:VTIMEZONE
TZID:America/Chicago
BEGIN:STANDARD
TZNAME:CST
DTSTART:20291104T020000
TZOFFSETFROM:-0500
TZOFFSETTO:-0600
RDATE:20301103T020000
RDATE:20311102T020000
END:STANDARD
BEGIN:DAYLIGHT
TZNAME:CDT
DTSTART:20300310T020000
TZOFFSETFROM:-0600
TZOFFSETTO:-0500
RDATE:20310309T020000
END:DAYLIGHT
END:VTIMEZONE
BEGIN:VEVENT
UID:d261134e-2bcb-4ba8-8598-f16cf8c5e2bf
DTSTAMP:20260424T200131Z
DESCRIPTION:
DTSTART;TZID=America/Chicago:20300708T143000
DTEND;TZID=America/Chicago:20300708T153000
LOCATION:Lifeline\, 1515 N New Street\, Kirksville\, MO 63501 US
SUMMARY:Group Class: Infant Nutrition
END:VEVENT
END:VCALENDAR
