BEGIN:VCALENDAR
VERSION:2.0
PRODID:-//lifelinemo.org//NONSGML kigkonsult.se iCalcreator 2.30.10//
CALSCALE:GREGORIAN
METHOD:PUBLISH
UID:b34f01f9-b835-408f-b303-8991c0089f18
X-WR-CALDESC:
X-WR-RELCALID:516e88d57b6a5a81e5331496f62b8c66
X-WR-TIMEZONE:America/Chicago
BEGIN:VTIMEZONE
TZID:America/Chicago
BEGIN:STANDARD
TZNAME:CST
DTSTART:20291104T020000
TZOFFSETFROM:-0500
TZOFFSETTO:-0600
RDATE:20301103T020000
RDATE:20311102T020000
END:STANDARD
BEGIN:DAYLIGHT
TZNAME:CDT
DTSTART:20300310T020000
TZOFFSETFROM:-0600
TZOFFSETTO:-0500
RDATE:20310309T020000
END:DAYLIGHT
END:VTIMEZONE
BEGIN:VEVENT
UID:da67357f-9d30-43a3-802d-f7038707da66
DTSTAMP:20260424T234650Z
DESCRIPTION:
DTSTART;TZID=America/Chicago:20300910T140000
DTEND;TZID=America/Chicago:20300910T150000
LOCATION:Lifeline\, 1515 N New Street\, Kirksville\, MO 63501 US
SUMMARY:Group Class: Safe Sleep
END:VEVENT
END:VCALENDAR
