BEGIN:VCALENDAR
VERSION:2.0
PRODID:-//lifelinemo.org//NONSGML kigkonsult.se iCalcreator 2.30.10//
CALSCALE:GREGORIAN
METHOD:PUBLISH
UID:c66a47b2-da82-46ed-a3a4-278d5ba8f583
X-WR-CALDESC:
X-WR-RELCALID:019b0650c225cb2df85a4f8547baf513
X-WR-TIMEZONE:America/Chicago
BEGIN:VTIMEZONE
TZID:America/Chicago
BEGIN:STANDARD
TZNAME:CST
DTSTART:20301103T020000
TZOFFSETFROM:-0500
TZOFFSETTO:-0600
RDATE:20311102T020000
END:STANDARD
BEGIN:DAYLIGHT
TZNAME:CDT
DTSTART:20300310T020000
TZOFFSETFROM:-0600
TZOFFSETTO:-0500
RDATE:20310309T020000
RDATE:20320314T020000
END:DAYLIGHT
END:VTIMEZONE
BEGIN:VEVENT
UID:408a4a68-a888-4af0-ad66-412651d384a3
DTSTAMP:20260425T034808Z
DESCRIPTION:
DTSTART;TZID=America/Chicago:20301118T100000
DTEND;TZID=America/Chicago:20301118T110000
LOCATION:Scotland County Health Department\, 214 W Madison St\, Memphis\, M
 O 63555 US
SUMMARY:Mobile Clinic: Memphis\, MO
END:VEVENT
END:VCALENDAR
