BEGIN:VCALENDAR
VERSION:2.0
PRODID:-//lifelinemo.org//NONSGML kigkonsult.se iCalcreator 2.30.10//
CALSCALE:GREGORIAN
METHOD:PUBLISH
UID:f664c4a6-57b0-45d5-83ba-93c1136a2c0e
X-WR-CALDESC:
X-WR-RELCALID:2d6f47612acabcfc8bbf0e35eaf51823
X-WR-TIMEZONE:America/Chicago
BEGIN:VTIMEZONE
TZID:America/Chicago
BEGIN:STANDARD
TZNAME:CST
DTSTART:20301103T020000
TZOFFSETFROM:-0500
TZOFFSETTO:-0600
RDATE:20311102T020000
END:STANDARD
BEGIN:DAYLIGHT
TZNAME:CDT
DTSTART:20300310T020000
TZOFFSETFROM:-0600
TZOFFSETTO:-0500
RDATE:20310309T020000
RDATE:20320314T020000
END:DAYLIGHT
END:VTIMEZONE
BEGIN:VEVENT
UID:7ca648da-92cf-4ece-b4a4-5bfe84a9bbb7
DTSTAMP:20260425T105936Z
DESCRIPTION:
DTSTART;TZID=America/Chicago:20310310T130000
DTEND;TZID=America/Chicago:20310310T140000
LOCATION:Lifeline\, 1515 N New Street\, Kirksville\, MO 63501 US
SUMMARY:Group Classes: Pregnancy Nutrition
END:VEVENT
END:VCALENDAR
