BEGIN:VCALENDAR
VERSION:2.0
PRODID:-//lifelinemo.org//NONSGML kigkonsult.se iCalcreator 2.30.10//
CALSCALE:GREGORIAN
METHOD:PUBLISH
UID:dbcd443d-9fca-4126-be66-814e4a6fcfca
X-WR-CALDESC:
X-WR-RELCALID:aafb47a4ba76647c061af4a1ffc52ae9
X-WR-TIMEZONE:America/Chicago
BEGIN:VTIMEZONE
TZID:America/Chicago
BEGIN:STANDARD
TZNAME:CST
DTSTART:20301103T020000
TZOFFSETFROM:-0500
TZOFFSETTO:-0600
RDATE:20311102T020000
END:STANDARD
BEGIN:DAYLIGHT
TZNAME:CDT
DTSTART:20310309T020000
TZOFFSETFROM:-0600
TZOFFSETTO:-0500
RDATE:20320314T020000
END:DAYLIGHT
END:VTIMEZONE
BEGIN:VEVENT
UID:46828b25-7ac0-4441-a85f-954ea81f66c6
DTSTAMP:20260425T105607Z
DESCRIPTION:
DTSTART;TZID=America/Chicago:20310506T093000
DTEND;TZID=America/Chicago:20310506T123000
LOCATION:1515 N New St\, Kirksville\, MO 63501 US
SUMMARY:Group Class: CPR & First Aid
END:VEVENT
END:VCALENDAR
