BEGIN:VCALENDAR
VERSION:2.0
PRODID:-//lifelinemo.org//NONSGML kigkonsult.se iCalcreator 2.30.10//
CALSCALE:GREGORIAN
METHOD:PUBLISH
UID:6b3f5338-8b35-4985-8e03-73886195a586
X-WR-CALDESC:
X-WR-RELCALID:48b80a877620d16e47a0ad62b52fddb2
X-WR-TIMEZONE:America/Chicago
BEGIN:VTIMEZONE
TZID:America/Chicago
BEGIN:STANDARD
TZNAME:CST
DTSTART:20301103T020000
TZOFFSETFROM:-0500
TZOFFSETTO:-0600
RDATE:20311102T020000
END:STANDARD
BEGIN:DAYLIGHT
TZNAME:CDT
DTSTART:20310309T020000
TZOFFSETFROM:-0600
TZOFFSETTO:-0500
RDATE:20320314T020000
END:DAYLIGHT
END:VTIMEZONE
BEGIN:VEVENT
UID:a0223d17-b955-4a83-8b79-f146185dd432
DTSTAMP:20260425T111925Z
DESCRIPTION:
DTSTART;TZID=America/Chicago:20310507T100000
DTEND;TZID=America/Chicago:20310507T110000
LOCATION:Lifeline\, 1515 New Street\, Kirksville\, MO 63501 US
SUMMARY:Connection Groups: Early Pregnancy
END:VEVENT
END:VCALENDAR
