BEGIN:VCALENDAR
VERSION:2.0
PRODID:-//lifelinemo.org//NONSGML kigkonsult.se iCalcreator 2.30.10//
CALSCALE:GREGORIAN
METHOD:PUBLISH
UID:bd0db362-f08e-4986-945c-c9eec7548d96
X-WR-CALDESC:
X-WR-RELCALID:c24dbe97547cf6bf2fcb2b75db464f71
X-WR-TIMEZONE:America/Chicago
BEGIN:VTIMEZONE
TZID:America/Chicago
BEGIN:STANDARD
TZNAME:CST
DTSTART:20301103T020000
TZOFFSETFROM:-0500
TZOFFSETTO:-0600
RDATE:20311102T020000
RDATE:20321107T020000
END:STANDARD
BEGIN:DAYLIGHT
TZNAME:CDT
DTSTART:20310309T020000
TZOFFSETFROM:-0600
TZOFFSETTO:-0500
RDATE:20320314T020000
END:DAYLIGHT
END:VTIMEZONE
BEGIN:VEVENT
UID:63cf891c-d099-4ee5-8e97-d7d2c32237c6
DTSTAMP:20260425T105955Z
DESCRIPTION:
DTSTART;TZID=America/Chicago:20310512T143000
DTEND;TZID=America/Chicago:20310512T153000
LOCATION:Lifeline\, 1515 N New Street\, Kirksville\, MO 63501 US
SUMMARY:Group Class: Infant Nutrition
END:VEVENT
END:VCALENDAR
