BEGIN:VCALENDAR
VERSION:2.0
PRODID:-//lifelinemo.org//NONSGML kigkonsult.se iCalcreator 2.30.10//
CALSCALE:GREGORIAN
METHOD:PUBLISH
UID:c7cce21b-172e-46b3-9c55-d27112f42b7a
X-WR-CALDESC:
X-WR-RELCALID:d0fb82c798755b0be0d7950e7e27e8de
X-WR-TIMEZONE:America/Chicago
BEGIN:VTIMEZONE
TZID:America/Chicago
BEGIN:STANDARD
TZNAME:CST
DTSTART:20301103T020000
TZOFFSETFROM:-0500
TZOFFSETTO:-0600
RDATE:20311102T020000
RDATE:20321107T020000
END:STANDARD
BEGIN:DAYLIGHT
TZNAME:CDT
DTSTART:20310309T020000
TZOFFSETFROM:-0600
TZOFFSETTO:-0500
RDATE:20320314T020000
END:DAYLIGHT
END:VTIMEZONE
BEGIN:VEVENT
UID:590bf469-3e20-4da2-866b-013d8b09a3ae
DTSTAMP:20260425T110341Z
DESCRIPTION:
DTSTART;TZID=America/Chicago:20310519T100000
DTEND;TZID=America/Chicago:20310519T110000
LOCATION:Scotland County Health Department\, 214 W Madison St\, Memphis\, M
 O 63555 US
SUMMARY:Mobile Clinic: Memphis\, MO
END:VEVENT
END:VCALENDAR
