BEGIN:VCALENDAR
VERSION:2.0
PRODID:-//lifelinemo.org//NONSGML kigkonsult.se iCalcreator 2.30.10//
CALSCALE:GREGORIAN
METHOD:PUBLISH
UID:26cc1742-a1f4-499f-aafd-023d7b72b406
X-WR-CALDESC:
X-WR-RELCALID:9066d0439f6d3806a7f3a9ecf627ef4b
X-WR-TIMEZONE:America/Chicago
BEGIN:VTIMEZONE
TZID:America/Chicago
BEGIN:STANDARD
TZNAME:CST
DTSTART:20301103T020000
TZOFFSETFROM:-0500
TZOFFSETTO:-0600
RDATE:20311102T020000
RDATE:20321107T020000
END:STANDARD
BEGIN:DAYLIGHT
TZNAME:CDT
DTSTART:20310309T020000
TZOFFSETFROM:-0600
TZOFFSETTO:-0500
RDATE:20320314T020000
END:DAYLIGHT
END:VTIMEZONE
BEGIN:VEVENT
UID:0ea6add4-88e9-4f13-9bb9-e6ce30b1dd1f
DTSTAMP:20260425T105733Z
DESCRIPTION:
DTSTART;TZID=America/Chicago:20310527T093000
DTEND;TZID=America/Chicago:20310527T103000
LOCATION:Lifeline\, 1515 N New Street\, Kirksville\, MO 63501 US
SUMMARY:Group Class: Infant First Aid
END:VEVENT
END:VCALENDAR
