BEGIN:VCALENDAR
VERSION:2.0
PRODID:-//lifelinemo.org//NONSGML kigkonsult.se iCalcreator 2.30.10//
CALSCALE:GREGORIAN
METHOD:PUBLISH
UID:4ae3c7ef-7f61-4f68-98ec-d2722e8cce8b
X-WR-CALDESC:
X-WR-RELCALID:a4534ccbbd2c69c9ca599594453fa5f8
X-WR-TIMEZONE:America/Chicago
BEGIN:VTIMEZONE
TZID:America/Chicago
BEGIN:STANDARD
TZNAME:CST
DTSTART:20301103T020000
TZOFFSETFROM:-0500
TZOFFSETTO:-0600
RDATE:20311102T020000
RDATE:20321107T020000
END:STANDARD
BEGIN:DAYLIGHT
TZNAME:CDT
DTSTART:20310309T020000
TZOFFSETFROM:-0600
TZOFFSETTO:-0500
RDATE:20320314T020000
END:DAYLIGHT
END:VTIMEZONE
BEGIN:VEVENT
UID:d25bb0db-cc15-47a3-b67f-a48ba35b156f
DTSTAMP:20260425T150051Z
DESCRIPTION:
DTSTART;TZID=America/Chicago:20310701T130000
DTEND;TZID=America/Chicago:20310701T140000
LOCATION:102 Monticello\, Edina\, MO 63537 US
SUMMARY:Mobile Clinic: Edina\, MO
END:VEVENT
END:VCALENDAR
