BEGIN:VCALENDAR
VERSION:2.0
PRODID:-//lifelinemo.org//NONSGML kigkonsult.se iCalcreator 2.30.10//
CALSCALE:GREGORIAN
METHOD:PUBLISH
UID:9dd5fce0-7572-41aa-8d89-9664fad83870
X-WR-CALDESC:
X-WR-RELCALID:0ec935c6cfaeb8e741bc51eebeb3c283
X-WR-TIMEZONE:America/Chicago
BEGIN:VTIMEZONE
TZID:America/Chicago
BEGIN:STANDARD
TZNAME:CST
DTSTART:20301103T020000
TZOFFSETFROM:-0500
TZOFFSETTO:-0600
RDATE:20311102T020000
RDATE:20321107T020000
END:STANDARD
BEGIN:DAYLIGHT
TZNAME:CDT
DTSTART:20310309T020000
TZOFFSETFROM:-0600
TZOFFSETTO:-0500
RDATE:20320314T020000
END:DAYLIGHT
END:VTIMEZONE
BEGIN:VEVENT
UID:2f3b23a3-a534-422d-b438-176951656bbf
DTSTAMP:20260425T165057Z
DESCRIPTION:
DTSTART;TZID=America/Chicago:20310820T100000
DTEND;TZID=America/Chicago:20310820T110000
LOCATION:Lifeline\, 1515 N New Street\, Kirksville\, MO 63501 US
SUMMARY:Connection Groups: Newborn Parenting
END:VEVENT
END:VCALENDAR
