BEGIN:VCALENDAR
VERSION:2.0
PRODID:-//lifelinemo.org//NONSGML kigkonsult.se iCalcreator 2.30.10//
CALSCALE:GREGORIAN
METHOD:PUBLISH
UID:a45e8692-c91d-4ce6-9add-167847046820
X-WR-CALDESC:
X-WR-RELCALID:08dded35cb659136839d2a4430852087
X-WR-TIMEZONE:America/Chicago
BEGIN:VTIMEZONE
TZID:America/Chicago
BEGIN:STANDARD
TZNAME:CST
DTSTART:20301103T020000
TZOFFSETFROM:-0500
TZOFFSETTO:-0600
RDATE:20311102T020000
RDATE:20321107T020000
END:STANDARD
BEGIN:DAYLIGHT
TZNAME:CDT
DTSTART:20310309T020000
TZOFFSETFROM:-0600
TZOFFSETTO:-0500
RDATE:20320314T020000
END:DAYLIGHT
END:VTIMEZONE
BEGIN:VEVENT
UID:06a762dc-a97e-4c14-8e29-9dd15786bbee
DTSTAMP:20260425T183302Z
DESCRIPTION:
DTSTART;TZID=America/Chicago:20310902T130000
DTEND;TZID=America/Chicago:20310902T140000
LOCATION:102 Monticello\, Edina\, MO 63537 US
SUMMARY:Mobile Clinic: Edina\, MO
END:VEVENT
END:VCALENDAR
