BEGIN:VCALENDAR
VERSION:2.0
PRODID:-//lifelinemo.org//NONSGML kigkonsult.se iCalcreator 2.30.10//
CALSCALE:GREGORIAN
METHOD:PUBLISH
UID:8e8bbaa1-3c1e-4f8f-832a-046c7f399539
X-WR-CALDESC:
X-WR-RELCALID:1558826f5c6ba6c725fba35d738591d2
X-WR-TIMEZONE:America/Chicago
BEGIN:VTIMEZONE
TZID:America/Chicago
BEGIN:STANDARD
TZNAME:CST
DTSTART:20301103T020000
TZOFFSETFROM:-0500
TZOFFSETTO:-0600
RDATE:20311102T020000
RDATE:20321107T020000
END:STANDARD
BEGIN:DAYLIGHT
TZNAME:CDT
DTSTART:20310309T020000
TZOFFSETFROM:-0600
TZOFFSETTO:-0500
RDATE:20320314T020000
END:DAYLIGHT
END:VTIMEZONE
BEGIN:VEVENT
UID:0d1f0d82-b25b-44db-90f5-d4147997eb55
DTSTAMP:20260425T183302Z
DESCRIPTION:
DTSTART;TZID=America/Chicago:20310903T110000
DTEND;TZID=America/Chicago:20310903T120000
LOCATION:Lifeline\, 1515 New Street\, Kirksville\, MO 63501 US
SUMMARY:Connection Groups: Community Connections
END:VEVENT
END:VCALENDAR
