BEGIN:VCALENDAR
VERSION:2.0
PRODID:-//lifelinemo.org//NONSGML kigkonsult.se iCalcreator 2.30.10//
CALSCALE:GREGORIAN
METHOD:PUBLISH
UID:5b82d197-9206-41c3-9c96-3e192890ecf6
X-WR-CALDESC:
X-WR-RELCALID:5240e974e42742318734df05eefca96a
X-WR-TIMEZONE:America/Chicago
BEGIN:VTIMEZONE
TZID:America/Chicago
BEGIN:STANDARD
TZNAME:CST
DTSTART:20301103T020000
TZOFFSETFROM:-0500
TZOFFSETTO:-0600
RDATE:20311102T020000
RDATE:20321107T020000
END:STANDARD
BEGIN:DAYLIGHT
TZNAME:CDT
DTSTART:20310309T020000
TZOFFSETFROM:-0600
TZOFFSETTO:-0500
RDATE:20320314T020000
END:DAYLIGHT
END:VTIMEZONE
BEGIN:VEVENT
UID:0293247c-22f2-484f-8d6d-647bef885c22
DTSTAMP:20260425T183133Z
DESCRIPTION:
DTSTART;TZID=America/Chicago:20310908T130000
DTEND;TZID=America/Chicago:20310908T140000
LOCATION:Lifeline\, 1515 N New Street\, Kirksville\, MO 63501 US
SUMMARY:Group Classes: Pregnancy Nutrition
END:VEVENT
END:VCALENDAR
