BEGIN:VCALENDAR
VERSION:2.0
PRODID:-//lifelinemo.org//NONSGML kigkonsult.se iCalcreator 2.30.10//
CALSCALE:GREGORIAN
METHOD:PUBLISH
UID:1ef2e26a-763d-4713-9a2f-91f958356727
X-WR-CALDESC:
X-WR-RELCALID:595da016c4b0534494d233bc5f7ac77c
X-WR-TIMEZONE:America/Chicago
BEGIN:VTIMEZONE
TZID:America/Chicago
BEGIN:STANDARD
TZNAME:CST
DTSTART:20301103T020000
TZOFFSETFROM:-0500
TZOFFSETTO:-0600
RDATE:20311102T020000
RDATE:20321107T020000
END:STANDARD
BEGIN:DAYLIGHT
TZNAME:CDT
DTSTART:20310309T020000
TZOFFSETFROM:-0600
TZOFFSETTO:-0500
RDATE:20320314T020000
RDATE:20330313T020000
END:DAYLIGHT
END:VTIMEZONE
BEGIN:VEVENT
UID:82d4d199-ac20-41fe-8afa-91c6e9a26668
DTSTAMP:20260425T183451Z
DESCRIPTION:
DTSTART;TZID=America/Chicago:20310925T100000
DTEND;TZID=America/Chicago:20310925T110000
LOCATION:Schuyler County Health Department\, 213 S Green St\, Lancaster\, M
 O 63548 US
SUMMARY:Mobile Clinic: Lancaster\, MO
END:VEVENT
END:VCALENDAR
