BEGIN:VCALENDAR
VERSION:2.0
PRODID:-//lifelinemo.org//NONSGML kigkonsult.se iCalcreator 2.30.10//
CALSCALE:GREGORIAN
METHOD:PUBLISH
UID:1bba0287-df2c-4f76-bd08-d4050b8ebcce
X-WR-CALDESC:
X-WR-RELCALID:200d311f4be554d6b391d735ff81024b
X-WR-TIMEZONE:America/Chicago
BEGIN:VTIMEZONE
TZID:America/Chicago
BEGIN:STANDARD
TZNAME:CST
DTSTART:20301103T020000
TZOFFSETFROM:-0500
TZOFFSETTO:-0600
RDATE:20311102T020000
RDATE:20321107T020000
END:STANDARD
BEGIN:DAYLIGHT
TZNAME:CDT
DTSTART:20310309T020000
TZOFFSETFROM:-0600
TZOFFSETTO:-0500
RDATE:20320314T020000
RDATE:20330313T020000
END:DAYLIGHT
END:VTIMEZONE
BEGIN:VEVENT
UID:a9163c94-8b72-4625-9b84-c30217158506
DTSTAMP:20260425T200247Z
DESCRIPTION:
DTSTART;TZID=America/Chicago:20311007T093000
DTEND;TZID=America/Chicago:20311007T123000
LOCATION:1515 N New St\, Kirksville\, MO 63501 US
SUMMARY:Group Class: CPR & First Aid
END:VEVENT
END:VCALENDAR
