BEGIN:VCALENDAR
VERSION:2.0
PRODID:-//lifelinemo.org//NONSGML kigkonsult.se iCalcreator 2.30.10//
CALSCALE:GREGORIAN
METHOD:PUBLISH
UID:36fe0e99-4bbc-407d-a593-8e84221f3ff9
X-WR-CALDESC:
X-WR-RELCALID:1fbf973a50448d9c6c71035478d4df01
X-WR-TIMEZONE:America/Chicago
BEGIN:VTIMEZONE
TZID:America/Chicago
BEGIN:STANDARD
TZNAME:CST
DTSTART:20301103T020000
TZOFFSETFROM:-0500
TZOFFSETTO:-0600
RDATE:20311102T020000
RDATE:20321107T020000
END:STANDARD
BEGIN:DAYLIGHT
TZNAME:CDT
DTSTART:20310309T020000
TZOFFSETFROM:-0600
TZOFFSETTO:-0500
RDATE:20320314T020000
RDATE:20330313T020000
END:DAYLIGHT
END:VTIMEZONE
BEGIN:VEVENT
UID:56e9c83a-3112-4325-bfc9-19db6b7c90c3
DTSTAMP:20260425T202431Z
DESCRIPTION:
DTSTART;TZID=America/Chicago:20311007T130000
DTEND;TZID=America/Chicago:20311007T140000
LOCATION:102 Monticello\, Edina\, MO 63537 US
SUMMARY:Mobile Clinic: Edina\, MO
END:VEVENT
END:VCALENDAR
