BEGIN:VCALENDAR
VERSION:2.0
PRODID:-//lifelinemo.org//NONSGML kigkonsult.se iCalcreator 2.30.10//
CALSCALE:GREGORIAN
METHOD:PUBLISH
UID:bfb8356b-99cd-43eb-9741-537471cf07d7
X-WR-CALDESC:
X-WR-RELCALID:2c5c5ef303cf9293261eda63d126989a
X-WR-TIMEZONE:America/Chicago
BEGIN:VTIMEZONE
TZID:America/Chicago
BEGIN:STANDARD
TZNAME:CST
DTSTART:20301103T020000
TZOFFSETFROM:-0500
TZOFFSETTO:-0600
RDATE:20311102T020000
RDATE:20321107T020000
END:STANDARD
BEGIN:DAYLIGHT
TZNAME:CDT
DTSTART:20310309T020000
TZOFFSETFROM:-0600
TZOFFSETTO:-0500
RDATE:20320314T020000
RDATE:20330313T020000
END:DAYLIGHT
END:VTIMEZONE
BEGIN:VEVENT
UID:22d7b2cf-ecf2-4118-a071-aefdf3287a7c
DTSTAMP:20260425T202348Z
DESCRIPTION:
DTSTART;TZID=America/Chicago:20311020T100000
DTEND;TZID=America/Chicago:20311020T110000
LOCATION:Scotland County Health Department\, 214 W Madison St\, Memphis\, M
 O 63555 US
SUMMARY:Mobile Clinic: Memphis\, MO
END:VEVENT
END:VCALENDAR
