BEGIN:VCALENDAR
VERSION:2.0
PRODID:-//lifelinemo.org//NONSGML kigkonsult.se iCalcreator 2.30.10//
CALSCALE:GREGORIAN
METHOD:PUBLISH
UID:5e657f45-d728-4c64-8029-21c2fd8083c7
X-WR-CALDESC:
X-WR-RELCALID:d92fe3e0dd7018ed6f56d78ffbae0c48
X-WR-TIMEZONE:America/Chicago
BEGIN:VTIMEZONE
TZID:America/Chicago
BEGIN:STANDARD
TZNAME:CST
DTSTART:20311102T020000
TZOFFSETFROM:-0500
TZOFFSETTO:-0600
RDATE:20321107T020000
END:STANDARD
BEGIN:DAYLIGHT
TZNAME:CDT
DTSTART:20310309T020000
TZOFFSETFROM:-0600
TZOFFSETTO:-0500
RDATE:20320314T020000
RDATE:20330313T020000
END:DAYLIGHT
END:VTIMEZONE
BEGIN:VEVENT
UID:53fd1571-d4dc-40d5-aa5b-a6271bc2adaa
DTSTAMP:20260425T221750Z
DESCRIPTION:
DTSTART;TZID=America/Chicago:20311125T093000
DTEND;TZID=America/Chicago:20311125T103000
LOCATION:Lifeline\, 1515 N New Street\, Kirksville\, MO 63501 US
SUMMARY:Group Class: Infant First Aid
END:VEVENT
END:VCALENDAR
