BEGIN:VCALENDAR
VERSION:2.0
PRODID:-//lifelinemo.org//NONSGML kigkonsult.se iCalcreator 2.30.10//
CALSCALE:GREGORIAN
METHOD:PUBLISH
UID:cbd1b3c2-9506-4d57-9e29-24ae11ba94aa
X-WR-CALDESC:
X-WR-RELCALID:d6b0e43462a4f05eee239118dab077be
X-WR-TIMEZONE:America/Chicago
BEGIN:VTIMEZONE
TZID:America/Chicago
BEGIN:STANDARD
TZNAME:CST
DTSTART:20311102T020000
TZOFFSETFROM:-0500
TZOFFSETTO:-0600
RDATE:20321107T020000
END:STANDARD
BEGIN:DAYLIGHT
TZNAME:CDT
DTSTART:20310309T020000
TZOFFSETFROM:-0600
TZOFFSETTO:-0500
RDATE:20320314T020000
RDATE:20330313T020000
END:DAYLIGHT
END:VTIMEZONE
BEGIN:VEVENT
UID:011641c8-ef7d-4574-979f-8e86134e2d75
DTSTAMP:20260426T001841Z
DESCRIPTION:
DTSTART;TZID=America/Chicago:20311225T100000
DTEND;TZID=America/Chicago:20311225T110000
LOCATION:Schuyler County Health Department\, 213 S Green St\, Lancaster\, M
 O 63548 US
SUMMARY:Mobile Clinic: Lancaster\, MO
END:VEVENT
END:VCALENDAR
